BEGIN:VCALENDAR
VERSION:2.0
PRODID:-//Sonoma Valley Vintners &amp; Growers - ECPv6.15.20//NONSGML v1.0//EN
CALSCALE:GREGORIAN
METHOD:PUBLISH
X-ORIGINAL-URL:https://sonomavalleywine.com
X-WR-CALDESC:Events for Sonoma Valley Vintners &amp; Growers
REFRESH-INTERVAL;VALUE=DURATION:PT1H
X-Robots-Tag:noindex
X-PUBLISHED-TTL:PT1H
BEGIN:VTIMEZONE
TZID:America/Los_Angeles
BEGIN:DAYLIGHT
TZOFFSETFROM:-0800
TZOFFSETTO:-0700
TZNAME:PDT
DTSTART:20240310T100000
END:DAYLIGHT
BEGIN:STANDARD
TZOFFSETFROM:-0700
TZOFFSETTO:-0800
TZNAME:PST
DTSTART:20241103T090000
END:STANDARD
BEGIN:DAYLIGHT
TZOFFSETFROM:-0800
TZOFFSETTO:-0700
TZNAME:PDT
DTSTART:20250309T100000
END:DAYLIGHT
BEGIN:STANDARD
TZOFFSETFROM:-0700
TZOFFSETTO:-0800
TZNAME:PST
DTSTART:20251102T090000
END:STANDARD
BEGIN:DAYLIGHT
TZOFFSETFROM:-0800
TZOFFSETTO:-0700
TZNAME:PDT
DTSTART:20260308T100000
END:DAYLIGHT
BEGIN:STANDARD
TZOFFSETFROM:-0700
TZOFFSETTO:-0800
TZNAME:PST
DTSTART:20261101T090000
END:STANDARD
END:VTIMEZONE
BEGIN:VEVENT
DTSTART;TZID=America/Los_Angeles:20250426T120000
DTEND;TZID=America/Los_Angeles:20250426T160000
DTSTAMP:20260423T064225
CREATED:20250321T190611Z
LAST-MODIFIED:20250321T190612Z
UID:10000458-1745668800-1745683200@sonomavalleywine.com
SUMMARY:Destination Durell
DESCRIPTION:Set against the breathtaking backdrop of our Heritage Vineyard\, Durell\, this is more than just a spring gathering—it’s a celebration of wine\, community\, and the beauty of Sonoma Valley. \nSip your way through a lineup of our estate chardonnays\, pinot noirs\, the newly released Casteñada Rosé\, and the always-popular Durell Vineyard Pinot Blanc. Enjoy a mouthwatering lunch from Mother’s Tacos\, then keep the energy going with live music from the award-winning Roem Baur. \nYour ticket includes on-site valet parking\, though we encourage you to take advantage of rideshare services like Lyft or Uber. Secure your spot today and get ready for an unforgettable afternoon at Durell Vineyard!
URL:https://sonomavalleywine.com/events/destination-durell/
LOCATION:Three Sticks Wines Durell Vineyard\, Sonoma\, CA
ATTACH;FMTTYPE=image/jpeg:https://sonomavalleywine.com/wp-content/uploads/2025/03/TS_Destiantion-Durell_2023_1-scaled-e1742583909189.jpg
END:VEVENT
END:VCALENDAR