BEGIN:VCALENDAR
VERSION:2.0
PRODID:-//Sonoma Valley Vintners &amp; Growers - ECPv6.15.20//NONSGML v1.0//EN
CALSCALE:GREGORIAN
METHOD:PUBLISH
X-WR-CALNAME:Sonoma Valley Vintners &amp; Growers
X-ORIGINAL-URL:https://sonomavalleywine.com
X-WR-CALDESC:Events for Sonoma Valley Vintners &amp; Growers
REFRESH-INTERVAL;VALUE=DURATION:PT1H
X-Robots-Tag:noindex
X-PUBLISHED-TTL:PT1H
BEGIN:VTIMEZONE
TZID:America/Los_Angeles
BEGIN:DAYLIGHT
TZOFFSETFROM:-0800
TZOFFSETTO:-0700
TZNAME:PDT
DTSTART:20240310T100000
END:DAYLIGHT
BEGIN:STANDARD
TZOFFSETFROM:-0700
TZOFFSETTO:-0800
TZNAME:PST
DTSTART:20241103T090000
END:STANDARD
BEGIN:DAYLIGHT
TZOFFSETFROM:-0800
TZOFFSETTO:-0700
TZNAME:PDT
DTSTART:20250309T100000
END:DAYLIGHT
BEGIN:STANDARD
TZOFFSETFROM:-0700
TZOFFSETTO:-0800
TZNAME:PST
DTSTART:20251102T090000
END:STANDARD
BEGIN:DAYLIGHT
TZOFFSETFROM:-0800
TZOFFSETTO:-0700
TZNAME:PDT
DTSTART:20260308T100000
END:DAYLIGHT
BEGIN:STANDARD
TZOFFSETFROM:-0700
TZOFFSETTO:-0800
TZNAME:PST
DTSTART:20261101T090000
END:STANDARD
END:VTIMEZONE
BEGIN:VEVENT
DTSTART;VALUE=DATE:20250401
DTEND;VALUE=DATE:20250516
DTSTAMP:20260421T235027
CREATED:20250328T234347Z
LAST-MODIFIED:20250328T234348Z
UID:10000463-1743465600-1747353599@sonomavalleywine.com
SUMMARY:Spring Sampler Tasting at Kenwood Vineyards
DESCRIPTION:Visit Kenwood Vineyards and sample three wines specially curated to highlight favorites for spring sipping. Wines include Chardonnay and Pinot Noir from Russian River Valley and Cabernet Sauvignon from Sonoma Mountain’s famed Jack London Vineyard. This limited time offering runs from April 1 to May 15.
URL:https://sonomavalleywine.com/events/spring-sampler-tasting-at-kenwood-vineyards/
LOCATION:Kenwood Vineyards\, 9592 Sonoma Hwy\, Kenwood\, CA\, 95452\, United States
ATTACH;FMTTYPE=image/png:https://sonomavalleywine.com/wp-content/uploads/2025/03/Spring-Sampler_Web-e1743205416842.png
ORGANIZER;CN="Kenwood Vineyards":MAILTO:info@kenwoodvineyards.com
END:VEVENT
BEGIN:VEVENT
DTSTART;TZID=America/Los_Angeles:20250413T103000
DTEND;TZID=America/Los_Angeles:20250413T123000
DTSTAMP:20260421T235027
CREATED:20250306T021533Z
LAST-MODIFIED:20250317T192021Z
UID:10000444-1744540200-1744547400@sonomavalleywine.com
SUMMARY:Wild Path with Chris Benziger
DESCRIPTION:Immerse yourself in the world of Biodynamic farming during a relaxed vineyard stroll\, complete with a hands-on activity and wine tasting featuring our Biodynamic wines. Stay and enjoy a boxed lunch from the Glen Ellen Market (optional\, not included with ticket price). Every wine in our portfolio carries a third-party certification of green farming practices. Whether the vineyard is certified sustainable\, organic\, or Biodynamic\, it’s carefully tended with eco-responsible methods. \nTickets and additional information are available on our website\, https://www.benziger.com/wineryevents. \nLimited space available\, RSVP by April 6th. This is a moderate hike available for adults only\, no kids or pets allowed.
URL:https://sonomavalleywine.com/events/wild-path-with-chris-benziger/
LOCATION:Benziger Family Winery\, 1883 London Ranch Road\, Glen Ellen\, CA\, 95442
ATTACH;FMTTYPE=image/jpeg:https://sonomavalleywine.com/wp-content/uploads/2025/03/Benzinger-0066-1.jpg
END:VEVENT
BEGIN:VEVENT
DTSTART;TZID=America/Los_Angeles:20250413T110000
DTEND;TZID=America/Los_Angeles:20250413T130000
DTSTAMP:20260421T235027
CREATED:20250317T183843Z
LAST-MODIFIED:20250317T191940Z
UID:10000451-1744542000-1744549200@sonomavalleywine.com
SUMMARY:Sushimotos Sushi Class
DESCRIPTION:Struggling with sushi-making\, despite YouTube tutorials? Uncertain about sushi rice selection or sourcing quality salmon? \nChef Ed Metcalfe and his team from Sushimotos are here to help you craft enticing\, sustainable sushi\, sure to wow your guests and excite your taste buds! \nYou’ll start the day with miso soup while the chef demonstrates. Over the next two hours\, you’ll also learn knife handling techniques\, where to source the best ingredients\, how to make sushi rice and more. \nEach student will make two full rolls\, as well as a hand roll or a futomaki roll. Veggie options are available\, and wine is included. \nYou’ll leave with a digital cookbook and ingredient sourcing guide — but you won’t leave hungry!
URL:https://sonomavalleywine.com/events/sushimotos-sushi-class/
LOCATION:Viansa Winery\, 25200 Arnold Drive\, Sonoma\, CA\, 95476
ATTACH;FMTTYPE=image/jpeg:https://sonomavalleywine.com/wp-content/uploads/2025/03/Sushi-Photo-1-e1742236635239.jpg
ORGANIZER;CN="Viansa Winery":MAILTO:viansaservice@viansa.com
END:VEVENT
BEGIN:VEVENT
DTSTART;TZID=America/Los_Angeles:20250413T110000
DTEND;TZID=America/Los_Angeles:20250413T130000
DTSTAMP:20260421T235027
CREATED:20250326T182243Z
LAST-MODIFIED:20250326T182331Z
UID:10000460-1744542000-1744549200@sonomavalleywine.com
SUMMARY:Sunday Brunch Pop at Sangiacomo with The Muffin Lab
DESCRIPTION:We’re thrilled to have Janneh from Muffin Lab English Muffins at Sangiacomo for Sunday brunch! Join us on April 13 from 11:00am – 1:00pm for wines by-the-glass and bottle as you enjoy Janneh’s breakfast sandwiches made freshly on-site. Choose from a selection of four sandwiches to accompany our delicious wines. This experience is family and dog-friendly – bring your friends\, family and pup to enjoy the beautiful spring weather at Sangiacomo! \nSeating is first come\, first served. Parties with pups will be seated in our dog friendly Duke’s Vineyard Landing. \nTo reserve\, visit www.sangiacomowines.com\, or call 707-934-8445. There is no cost for admission; wines will be available to purchase by-the-glass and bottle\, food for purchase.
URL:https://sonomavalleywine.com/events/sunday-brunch-pop-at-sangiacomo-with-the-muffin-lab/
LOCATION:Sangiacomo Family Wines\, 21545 Broadway\, Sonoma\, CA\, 95476\, United States
ATTACH;FMTTYPE=image/jpeg:https://sonomavalleywine.com/wp-content/uploads/2025/03/Photo-by-@brennanspark-104-e1743013342745.jpeg
ORGANIZER;CN="Sangiacomo Family Wines":MAILTO:hospitality@sangiacomowines.com
END:VEVENT
BEGIN:VEVENT
DTSTART;TZID=America/Los_Angeles:20250413T110000
DTEND;TZID=America/Los_Angeles:20250413T160000
DTSTAMP:20260421T235027
CREATED:20250401T184537Z
LAST-MODIFIED:20250401T190249Z
UID:10000468-1744542000-1744560000@sonomavalleywine.com
SUMMARY:Share & Pair Sundays at Laurel Glen Vineyard
DESCRIPTION:Share & Pair every Sunday from March 23–May 25th. \nShare & Pair Sundays celebrates the togetherness\, the history\, and the stories of wine that go beyond what’s in the glass.\nThe $50 per person tasting includes four beautiful wines from Laurel Glen and a personal Charcuterie box from SOCO Cheeseboards. \nReservation only–must reserve by Wednesday for Sunday tasting. \nCancellation is allowed up to 24 hours in advance.
URL:https://sonomavalleywine.com/events/share-pair-sundays-at-laurel-glen-vineyard/2025-04-13/
LOCATION:Laurel Glen Vineyard\, 13750 Arnold Drive\, Glen Ellen\, CA\, 95442
ATTACH;FMTTYPE=image/png:https://sonomavalleywine.com/wp-content/uploads/2025/03/shareandpair-copy-e1743533124397.png
ORGANIZER;CN="Laurel Glen Vineyard":MAILTO:concierge@laurelglen.com
END:VEVENT
BEGIN:VEVENT
DTSTART;TZID=America/Los_Angeles:20250413T140000
DTEND;TZID=America/Los_Angeles:20250413T170000
DTSTAMP:20260421T235027
CREATED:20250306T014712Z
LAST-MODIFIED:20250317T191857Z
UID:10000442-1744552800-1744563600@sonomavalleywine.com
SUMMARY:Paint & Sip at Bartholomew Estate Winery
DESCRIPTION:Enjoy an artistic experience of creating your one of a kind painting with friends in our Tasting Gallery and sipping wine. Join us for a fun and relaxed atmosphere to unleash your creative side. Instructed by local artist\, Kathryn Yost. 2-3 hours.
URL:https://sonomavalleywine.com/events/paint-sip/
LOCATION:Bartholomew Estate Winery\, 1000 Vineyard Lane\, Sonoma\, CA\, 95476\, United States
ATTACH;FMTTYPE=image/jpeg:https://sonomavalleywine.com/wp-content/uploads/2025/03/Bart-estate-paint-and-sip-scaled-e1741225702352.jpg
ORGANIZER;CN="Bartholomew Estate Winery":MAILTO:info@bartestate.com
END:VEVENT
END:VCALENDAR