BEGIN:VCALENDAR
VERSION:2.0
PRODID:-//Sonoma Valley Vintners &amp; Growers - ECPv6.15.20//NONSGML v1.0//EN
CALSCALE:GREGORIAN
METHOD:PUBLISH
X-WR-CALNAME:Sonoma Valley Vintners &amp; Growers
X-ORIGINAL-URL:https://sonomavalleywine.com
X-WR-CALDESC:Events for Sonoma Valley Vintners &amp; Growers
REFRESH-INTERVAL;VALUE=DURATION:PT1H
X-Robots-Tag:noindex
X-PUBLISHED-TTL:PT1H
BEGIN:VTIMEZONE
TZID:America/Los_Angeles
BEGIN:DAYLIGHT
TZOFFSETFROM:-0800
TZOFFSETTO:-0700
TZNAME:PDT
DTSTART:20240310T100000
END:DAYLIGHT
BEGIN:STANDARD
TZOFFSETFROM:-0700
TZOFFSETTO:-0800
TZNAME:PST
DTSTART:20241103T090000
END:STANDARD
BEGIN:DAYLIGHT
TZOFFSETFROM:-0800
TZOFFSETTO:-0700
TZNAME:PDT
DTSTART:20250309T100000
END:DAYLIGHT
BEGIN:STANDARD
TZOFFSETFROM:-0700
TZOFFSETTO:-0800
TZNAME:PST
DTSTART:20251102T090000
END:STANDARD
BEGIN:DAYLIGHT
TZOFFSETFROM:-0800
TZOFFSETTO:-0700
TZNAME:PDT
DTSTART:20260308T100000
END:DAYLIGHT
BEGIN:STANDARD
TZOFFSETFROM:-0700
TZOFFSETTO:-0800
TZNAME:PST
DTSTART:20261101T090000
END:STANDARD
END:VTIMEZONE
BEGIN:VEVENT
DTSTART;VALUE=DATE:20250401
DTEND;VALUE=DATE:20250516
DTSTAMP:20260421T221603
CREATED:20250328T234347Z
LAST-MODIFIED:20250328T234348Z
UID:10000463-1743465600-1747353599@sonomavalleywine.com
SUMMARY:Spring Sampler Tasting at Kenwood Vineyards
DESCRIPTION:Visit Kenwood Vineyards and sample three wines specially curated to highlight favorites for spring sipping. Wines include Chardonnay and Pinot Noir from Russian River Valley and Cabernet Sauvignon from Sonoma Mountain’s famed Jack London Vineyard. This limited time offering runs from April 1 to May 15.
URL:https://sonomavalleywine.com/events/spring-sampler-tasting-at-kenwood-vineyards/
LOCATION:Kenwood Vineyards\, 9592 Sonoma Hwy\, Kenwood\, CA\, 95452\, United States
ATTACH;FMTTYPE=image/png:https://sonomavalleywine.com/wp-content/uploads/2025/03/Spring-Sampler_Web-e1743205416842.png
ORGANIZER;CN="Kenwood Vineyards":MAILTO:info@kenwoodvineyards.com
END:VEVENT
BEGIN:VEVENT
DTSTART;TZID=America/Los_Angeles:20250412T110000
DTEND;TZID=America/Los_Angeles:20250412T130000
DTSTAMP:20260421T221603
CREATED:20250313T214310Z
LAST-MODIFIED:20250314T201252Z
UID:10000447-1744455600-1744462800@sonomavalleywine.com
SUMMARY:The Liberated Enjoyment of Wine & Food Experience at The Donum Estate
DESCRIPTION:Redefine the traditional wine and food tasting experience with a liberating 2-hour “un-pairing” immersion. Rather than pairing specific wines and dishes\, guests are guided through an educational wine and food experience that focuses on key tastes within the food\, understanding how they interact with one another and how to balance them. Guided by Master of Wine Mark de Vere\, guests will gain the knowledge and confidence to balance tastes in food\, empowering them to enjoy any dish with any wine. Conclude your tasting by enjoying two petite plates with two Donum wines. \nLimited to 23 people. 21 years and older.
URL:https://sonomavalleywine.com/events/the-liberated-enjoyment-of-wine-food-experience/
LOCATION:The Donum Estate\, 24500 Ramal Road\, Sonoma\, CA\, 95476\, United States
ATTACH;FMTTYPE=image/png:https://sonomavalleywine.com/wp-content/uploads/2025/03/Donum-winery-300.png
ORGANIZER;CN="The Donum Estate":MAILTO:hospitality@thedonumestate.com
END:VEVENT
BEGIN:VEVENT
DTSTART;TZID=America/Los_Angeles:20250412T120000
DTEND;TZID=America/Los_Angeles:20250412T160000
DTSTAMP:20260421T221603
CREATED:20250327T225443Z
LAST-MODIFIED:20250327T225443Z
UID:10000462-1744459200-1744473600@sonomavalleywine.com
SUMMARY:Taste Grand Scheme Wines at the Passaggio & Company Wine Bar Open House
DESCRIPTION:Join us for a delightful afternoon at our open house at the Passaggio & Company Wine Bar! Taste Grand Scheme Wines and more\, enjoy light bites\, listen to live music\, and explore our new collective tasting room. A wonderful chance to connect with the community and discover our latest offerings. \nThe tasting bar is located in Glen Ellen in the historic Jack London Village\, 14301 Arnold Drive. We can’t wait for you to try our estate Pinot Noir\, Chardonnay\, and newly released Rosé from our certified organic vineyard in Carneros.
URL:https://sonomavalleywine.com/events/taste-grand-scheme-wines-at-the-passaggio-company-wine-bar-open-house/
LOCATION:Passagio Wine Bar\, 14301 ARNOLD DR\, STE 1A\, Glen Ellen\, CA\, 95476\, United States
ORGANIZER;CN="Grand Scheme Wines":MAILTO:accounts@grandschemewines.com
END:VEVENT
END:VCALENDAR